BEGIN:VCALENDAR
VERSION:2.0
PRODID:-//ddaysoftware.com//NONSGML DDay.iCal 1.0//EN
BEGIN:VEVENT
DESCRIPTION:SILTRONIC AG Veröffentlichung Halbjahresfinanzbericht\n\n (http
 s://www.finanznachrichten.de)
DTEND;VALUE=DATE:20250730
DTSTAMP:20260421T030334Z
DTSTART;VALUE=DATE:20250729
LOCATION:
SEQUENCE:0
SUMMARY:SILTRONIC AG Veröffentlichung Halbjahresfinanzbericht
UID:8093e4fc-4b23-4b6c-9531-6571841a362f
END:VEVENT
END:VCALENDAR
