BEGIN:VCALENDAR
VERSION:2.0
PRODID:-//ddaysoftware.com//NONSGML DDay.iCal 1.0//EN
BEGIN:VEVENT
DESCRIPTION:EDEL SE & CO KGAA Hauptversammlung\n\n (https://www.finanznachr
 ichten.de)
DTEND;VALUE=DATE:20160526
DTSTAMP:20260422T015947Z
DTSTART;VALUE=DATE:20160525
LOCATION:
SEQUENCE:0
SUMMARY:EDEL SE & CO KGAA Hauptversammlung
UID:ece6ec0c-e1b9-47d6-b089-1034ba3c169d
END:VEVENT
END:VCALENDAR
