BEGIN:VCALENDAR
VERSION:2.0
PRODID:-//ddaysoftware.com//NONSGML DDay.iCal 1.0//EN
BEGIN:VEVENT
DESCRIPTION:ECKERT & ZIEGLER SE Veröffentlichung Quartalsfinanzbericht (Sti
 chtag Q3)\n\n (https://www.finanznachrichten.de)
DTEND;VALUE=DATE:20251114
DTSTAMP:20260420T003410Z
DTSTART;VALUE=DATE:20251113
LOCATION:
SEQUENCE:0
SUMMARY:ECKERT & ZIEGLER SE Veröffentlichung Quartalsfinanzbericht (Stichta
 g Q3)
UID:7b2a8f5d-d22f-48bb-83f9-c59768bffbba
END:VEVENT
END:VCALENDAR
