BEGIN:VCALENDAR
VERSION:2.0
PRODID:-//ddaysoftware.com//NONSGML DDay.iCal 1.0//EN
BEGIN:VEVENT
DESCRIPTION:HANNOVER RUECK SE Veröffentlichung Halbjahresfinanzbericht\n\n 
 (https://www.finanznachrichten.de)
DTEND;VALUE=DATE:20250813
DTSTAMP:20260423T234704Z
DTSTART;VALUE=DATE:20250812
LOCATION:
SEQUENCE:0
SUMMARY:HANNOVER RUECK SE Veröffentlichung Halbjahresfinanzbericht
UID:31dec96e-98b5-4ca6-8286-ecd6d5938ab5
END:VEVENT
END:VCALENDAR
