BEGIN:VCALENDAR
VERSION:2.0
PRODID:-//ddaysoftware.com//NONSGML DDay.iCal 1.0//EN
BEGIN:VEVENT
DESCRIPTION:AIXTRON SE Deutsches Eigenkapitalforum\n\n (https://www.finanzn
 achrichten.de)
DTEND;VALUE=DATE:20251127
DTSTAMP:20260423T155103Z
DTSTART;VALUE=DATE:20251126
LOCATION:
SEQUENCE:0
SUMMARY:AIXTRON SE Deutsches Eigenkapitalforum
UID:c91b84a8-4fce-4d4f-a9a1-c655275e63b9
END:VEVENT
END:VCALENDAR
