BEGIN:VCALENDAR
VERSION:2.0
PRODID:-//ddaysoftware.com//NONSGML DDay.iCal 1.0//EN
BEGIN:VEVENT
DESCRIPTION:KION GROUP AG Veröffentlichung Jahresfinanzbericht\n\n (https:/
 /www.finanznachrichten.de)
DTEND;VALUE=DATE:20250228
DTSTAMP:20260420T181421Z
DTSTART;VALUE=DATE:20250227
LOCATION:
SEQUENCE:0
SUMMARY:KION GROUP AG Veröffentlichung Jahresfinanzbericht
UID:36f45647-6b7f-4eda-922f-fa8d31eada11
END:VEVENT
END:VCALENDAR
