BEGIN:VCALENDAR
VERSION:2.0
PRODID:-//ddaysoftware.com//NONSGML DDay.iCal 1.0//EN
BEGIN:VEVENT
DESCRIPTION:SARTORIUS AG VZ Kapitalmarkttag \n\n (https://www.finanznachric
 hten.de)
DTEND;VALUE=DATE:20260318
DTSTAMP:20260422T220703Z
DTSTART;VALUE=DATE:20260317
LOCATION:
SEQUENCE:0
SUMMARY:SARTORIUS AG VZ Kapitalmarkttag 
UID:a34e10dd-1cd2-48a5-b094-264c15b9afff
END:VEVENT
END:VCALENDAR
