BEGIN:VCALENDAR
VERSION:2.0
PRODID:-//ddaysoftware.com//NONSGML DDay.iCal 1.0//EN
BEGIN:VEVENT
DESCRIPTION:KION GROUP AG Veröffentlichung Quartalsfinanzbericht (Stichtag 
 Q3)\n\n (https://www.finanznachrichten.de)
DTEND;VALUE=DATE:20251031
DTSTAMP:20260420T181421Z
DTSTART;VALUE=DATE:20251030
LOCATION:
SEQUENCE:0
SUMMARY:KION GROUP AG Veröffentlichung Quartalsfinanzbericht (Stichtag Q3)
UID:0f8bf8ef-0a7e-4215-82b5-a3da31f98fc3
END:VEVENT
END:VCALENDAR
