BEGIN:VCALENDAR
VERSION:2.0
PRODID:-//ddaysoftware.com//NONSGML DDay.iCal 1.0//EN
BEGIN:VEVENT
DESCRIPTION:YOUR FAMILY ENTERTAINMENT AG Veröffentlichung Halbjahresfinanzb
 ericht 2020\n\n (https://www.finanznachrichten.de)
DTEND;VALUE=DATE:20200930
DTSTAMP:20260424T175813Z
DTSTART;VALUE=DATE:20200929
LOCATION:
SEQUENCE:0
SUMMARY:YOUR FAMILY ENTERTAINMENT AG Veröffentlichung Halbjahresfinanzberic
 ht 2020
UID:5bdb91eb-221c-45d0-a019-bec8bb4903ba
END:VEVENT
END:VCALENDAR
