BEGIN:VCALENDAR
VERSION:2.0
PRODID:-//ddaysoftware.com//NONSGML DDay.iCal 1.0//EN
BEGIN:VEVENT
DESCRIPTION:FIELMANN GROUP AG Veröffentlichung Quartalsmitteilung (Stichtag
  Q3)\n\n (https://www.finanznachrichten.de)
DTEND;VALUE=DATE:20251107
DTSTAMP:20260420T031045Z
DTSTART;VALUE=DATE:20251106
LOCATION:
SEQUENCE:0
SUMMARY:FIELMANN GROUP AG Veröffentlichung Quartalsmitteilung (Stichtag Q3)
UID:278202f6-4157-4157-ae1b-ab6b4e5ff5df
END:VEVENT
END:VCALENDAR
