BEGIN:VCALENDAR
VERSION:2.0
PRODID:-//ddaysoftware.com//NONSGML DDay.iCal 1.0//EN
BEGIN:VEVENT
DESCRIPTION:AIXTRON SE Veröffentlichung Quartalsfinanzbericht (Stichtag Q3)
 \n\n (https://www.finanznachrichten.de)
DTEND;VALUE=DATE:20241101
DTSTAMP:20260423T155103Z
DTSTART;VALUE=DATE:20241031
LOCATION:
SEQUENCE:0
SUMMARY:AIXTRON SE Veröffentlichung Quartalsfinanzbericht (Stichtag Q3)
UID:b5e828a3-faa5-4871-889c-1c5c34c9b5ba
END:VEVENT
END:VCALENDAR
