BEGIN:VCALENDAR
VERSION:2.0
PRODID:-//ddaysoftware.com//NONSGML DDay.iCal 1.0//EN
BEGIN:VEVENT
DESCRIPTION:LPKF LASER & ELECTRONICS SE Veröffentlichung Quartalsfinanzberi
 cht (Stichtag Q3)\n\n (https://www.finanznachrichten.de)
DTEND;VALUE=DATE:20251031
DTSTAMP:20260423T025459Z
DTSTART;VALUE=DATE:20251030
LOCATION:
SEQUENCE:0
SUMMARY:LPKF LASER & ELECTRONICS SE Veröffentlichung Quartalsfinanzbericht 
 (Stichtag Q3)
UID:0e6c0c7e-115f-40e8-8386-1835bcfed5ef
END:VEVENT
END:VCALENDAR
