BEGIN:VCALENDAR
VERSION:2.0
PRODID:-//ddaysoftware.com//NONSGML DDay.iCal 1.0//EN
BEGIN:VEVENT
DESCRIPTION:COVESTRO AG Veröffentlichung Quartalsmitteilung (Stichtag Q3)\n
 \n (https://www.finanznachrichten.de)
DTEND;VALUE=DATE:20251031
DTSTAMP:20260423T155103Z
DTSTART;VALUE=DATE:20251030
LOCATION:
SEQUENCE:0
SUMMARY:COVESTRO AG Veröffentlichung Quartalsmitteilung (Stichtag Q3)
UID:69fe9e35-43a7-438d-b843-b480a0cbb15e
END:VEVENT
END:VCALENDAR
