BEGIN:VCALENDAR
VERSION:2.0
PRODID:-//ddaysoftware.com//NONSGML DDay.iCal 1.0//EN
BEGIN:VEVENT
DESCRIPTION:RATIONAL AG Finanzzahlen / Bilanzpressekonferenz / Telefonkonfe
 renz zum Geschäftsjahr 2022\n\n (https://www.finanznachrichten.de)
DTEND;VALUE=DATE:20230329
DTSTAMP:20260420T055146Z
DTSTART;VALUE=DATE:20230328
LOCATION:
SEQUENCE:0
SUMMARY:RATIONAL AG Finanzzahlen / Bilanzpressekonferenz / Telefonkonferenz
  zum Geschäftsjahr 2022
UID:2dc5489c-fa4f-4b43-bfdb-8c40e7c4c9a3
END:VEVENT
END:VCALENDAR
