BEGIN:VCALENDAR
VERSION:2.0
PRODID:-//ddaysoftware.com//NONSGML DDay.iCal 1.0//EN
BEGIN:VEVENT
DESCRIPTION:AIXTRON SE Veröffentlichung Jahresfinanzbericht\n\n (https://ww
 w.finanznachrichten.de)
DTEND;VALUE=DATE:20250228
DTSTAMP:20260423T155103Z
DTSTART;VALUE=DATE:20250227
LOCATION:
SEQUENCE:0
SUMMARY:AIXTRON SE Veröffentlichung Jahresfinanzbericht
UID:d0eb35e6-6c24-4878-92c9-0ebb4cccbb99
END:VEVENT
END:VCALENDAR
