BEGIN:VCALENDAR
VERSION:2.0
PRODID:-//ddaysoftware.com//NONSGML DDay.iCal 1.0//EN
BEGIN:VEVENT
DESCRIPTION:ECKERT & ZIEGLER SE Veröffentlichung Jahresfinanzbericht\n\n (h
 ttps://www.finanznachrichten.de)
DTEND;VALUE=DATE:20260327
DTSTAMP:20260420T003410Z
DTSTART;VALUE=DATE:20260326
LOCATION:
SEQUENCE:0
SUMMARY:ECKERT & ZIEGLER SE Veröffentlichung Jahresfinanzbericht
UID:781de6f0-b5f2-4a4d-b4d4-7690a8b5c9ca
END:VEVENT
END:VCALENDAR
