BEGIN:VCALENDAR
VERSION:2.0
PRODID:-//ddaysoftware.com//NONSGML DDay.iCal 1.0//EN
BEGIN:VEVENT
DESCRIPTION:ECKERT & ZIEGLER SE Veröffentlichung Quartalsfinanzbericht (Sti
 chtag Q3)\n\n (https://www.finanznachrichten.de)
DTEND;VALUE=DATE:20241115
DTSTAMP:20260420T003411Z
DTSTART;VALUE=DATE:20241114
LOCATION:
SEQUENCE:0
SUMMARY:ECKERT & ZIEGLER SE Veröffentlichung Quartalsfinanzbericht (Stichta
 g Q3)
UID:f7b73ae6-a87c-4fe1-a428-6429f8797e11
END:VEVENT
END:VCALENDAR
