BEGIN:VCALENDAR
VERSION:2.0
PRODID:-//ddaysoftware.com//NONSGML DDay.iCal 1.0//EN
BEGIN:VEVENT
DESCRIPTION:RATIONAL AG Finanzzahlen / Telefonkonferenz Halbjahr 2024\n\n (
 https://www.finanznachrichten.de)
DTEND;VALUE=DATE:20240807
DTSTAMP:20260420T055145Z
DTSTART;VALUE=DATE:20240806
LOCATION:
SEQUENCE:0
SUMMARY:RATIONAL AG Finanzzahlen / Telefonkonferenz Halbjahr 2024
UID:5763b433-bc03-44da-b023-61d318480f39
END:VEVENT
END:VCALENDAR
