BEGIN:VCALENDAR
VERSION:2.0
PRODID:-//ddaysoftware.com//NONSGML DDay.iCal 1.0//EN
BEGIN:VEVENT
DESCRIPTION:TONIES SE nuways European MidCap Konferenz \n\n (https://www.fi
 nanznachrichten.de)
DTEND;VALUE=DATE:20260429
DTSTAMP:20260422T172720Z
DTSTART;VALUE=DATE:20260428
LOCATION:
SEQUENCE:0
SUMMARY:TONIES SE nuways European MidCap Konferenz 
UID:42c36649-b14e-44c3-8fb5-5e3569062c3c
END:VEVENT
END:VCALENDAR
