BEGIN:VCALENDAR
VERSION:2.0
PRODID:-//ddaysoftware.com//NONSGML DDay.iCal 1.0//EN
BEGIN:VEVENT
DESCRIPTION:FIELMANN GROUP AG Veröffentlichung Halbjahresfinanzbericht\n\n 
 (https://www.finanznachrichten.de)
DTEND;VALUE=DATE:20250829
DTSTAMP:20260420T031045Z
DTSTART;VALUE=DATE:20250828
LOCATION:
SEQUENCE:0
SUMMARY:FIELMANN GROUP AG Veröffentlichung Halbjahresfinanzbericht
UID:c7aaaadd-2b5e-450a-827b-462f2c20b73a
END:VEVENT
END:VCALENDAR
