BEGIN:VCALENDAR
VERSION:2.0
PRODID:-//ddaysoftware.com//NONSGML DDay.iCal 1.0//EN
BEGIN:VEVENT
DESCRIPTION:BASLER AG Veröffentlichung Jahresfinanzbericht\n\n (https://www
 .finanznachrichten.de)
DTEND;VALUE=DATE:20250329
DTSTAMP:20260420T105501Z
DTSTART;VALUE=DATE:20250328
LOCATION:
SEQUENCE:0
SUMMARY:BASLER AG Veröffentlichung Jahresfinanzbericht
UID:2974bb3f-2d6b-499b-9fce-03fef26708a2
END:VEVENT
END:VCALENDAR
