BEGIN:VCALENDAR
VERSION:2.0
PRODID:-//ddaysoftware.com//NONSGML DDay.iCal 1.0//EN
BEGIN:VEVENT
DESCRIPTION:HANNOVER RUECK SE Veröffentlichung Quartalsmitteilung (Stichtag
  Q3)\n\n (https://www.finanznachrichten.de)
DTEND;VALUE=DATE:20241112
DTSTAMP:20260423T234704Z
DTSTART;VALUE=DATE:20241111
LOCATION:
SEQUENCE:0
SUMMARY:HANNOVER RUECK SE Veröffentlichung Quartalsmitteilung (Stichtag Q3)
UID:0f03399e-47bf-4881-861b-46be72f82785
END:VEVENT
END:VCALENDAR
