BEGIN:VCALENDAR
VERSION:2.0
PRODID:-//ddaysoftware.com//NONSGML DDay.iCal 1.0//EN
BEGIN:VEVENT
DESCRIPTION:CENIT AG Deutsches Eigenkapitalforum\n\n (https://www.finanznac
 hrichten.de)
DTEND;VALUE=DATE:20251125
DTSTAMP:20260425T171058Z
DTSTART;VALUE=DATE:20251124
LOCATION:
SEQUENCE:0
SUMMARY:CENIT AG Deutsches Eigenkapitalforum
UID:af85145e-0e48-4406-a827-ab2eb9542312
END:VEVENT
END:VCALENDAR
