BEGIN:VCALENDAR
VERSION:2.0
PRODID:-//ddaysoftware.com//NONSGML DDay.iCal 1.0//EN
BEGIN:VEVENT
DESCRIPTION:KRONES AG Veröffentlichung des Konzern- und AG-Geschäftsbericht
 s 2025\n\n (https://www.finanznachrichten.de)
DTEND;VALUE=DATE:20260321
DTSTAMP:20260426T004024Z
DTSTART;VALUE=DATE:20260320
LOCATION:
SEQUENCE:0
SUMMARY:KRONES AG Veröffentlichung des Konzern- und AG-Geschäftsberichts 20
 25
UID:a64b5ed2-a5c4-48d8-8166-1645bbdcc94b
END:VEVENT
END:VCALENDAR
