BEGIN:VCALENDAR
VERSION:2.0
PRODID:-//ddaysoftware.com//NONSGML DDay.iCal 1.0//EN
BEGIN:VEVENT
DESCRIPTION:DEUTSCHE BOERSE AG Bilanzpressekonferenz\n\n (https://www.finan
 znachrichten.de)
DTEND;VALUE=DATE:20260213
DTSTAMP:20260423T155103Z
DTSTART;VALUE=DATE:20260212
LOCATION:
SEQUENCE:0
SUMMARY:DEUTSCHE BOERSE AG Bilanzpressekonferenz
UID:16e01218-c7fd-4d02-919a-982f8b04df76
END:VEVENT
END:VCALENDAR
