BEGIN:VCALENDAR
VERSION:2.0
PRODID:-//ddaysoftware.com//NONSGML DDay.iCal 1.0//EN
BEGIN:VEVENT
DESCRIPTION:CENIT AG Hauptversammlung\n\n (https://www.finanznachrichten.de
 )
DTEND;VALUE=DATE:20250605
DTSTAMP:20260425T171058Z
DTSTART;VALUE=DATE:20250604
LOCATION:
SEQUENCE:0
SUMMARY:CENIT AG Hauptversammlung
UID:376db07b-d99e-46af-a71b-9b93882633f8
END:VEVENT
END:VCALENDAR
