BEGIN:VCALENDAR
VERSION:2.0
PRODID:-//ddaysoftware.com//NONSGML DDay.iCal 1.0//EN
BEGIN:VEVENT
DESCRIPTION:MWB FAIRTRADE WERTPAPIERHANDELSBANK AG Hauptversammlung im Haus
  der bayerischen Wirtschaft\n\n (https://www.finanznachrichten.de)
DTEND:20240718T235900
DTSTAMP:20260419T125702Z
DTSTART;VALUE=DATE:20240718
LOCATION:
SEQUENCE:0
SUMMARY:MWB FAIRTRADE WERTPAPIERHANDELSBANK AG Hauptversammlung im Haus der
  bayerischen Wirtschaft
UID:7276fecb-b18c-4157-a677-cced6c4bd28e
END:VEVENT
END:VCALENDAR
