BEGIN:VCALENDAR
VERSION:2.0
PRODID:-//ddaysoftware.com//NONSGML DDay.iCal 1.0//EN
BEGIN:VEVENT
DESCRIPTION:PLATFORM GROUP SE & CO KGAA Veröffentlichung Konzern-/Jahresabs
 chluss \n\n (https://www.finanznachrichten.de)
DTEND;VALUE=DATE:20260423
DTSTAMP:20260422T001642Z
DTSTART;VALUE=DATE:20260422
LOCATION:
SEQUENCE:0
SUMMARY:PLATFORM GROUP SE & CO KGAA Veröffentlichung Konzern-/Jahresabschlu
 ss 
UID:fad7a571-b80a-4481-bc14-dac3a1056be8
END:VEVENT
END:VCALENDAR
