BEGIN:VCALENDAR
VERSION:2.0
PRODID:-//ddaysoftware.com//NONSGML DDay.iCal 1.0//EN
BEGIN:VEVENT
DESCRIPTION:COVESTRO AG Hauptversammlung\n\n (https://www.finanznachrichten
 .de)
DTEND;VALUE=DATE:20260520
DTSTAMP:20260423T155103Z
DTSTART;VALUE=DATE:20260519
LOCATION:
SEQUENCE:0
SUMMARY:COVESTRO AG Hauptversammlung
UID:dc421af2-f2e4-4c93-aed1-4b2676e8441c
END:VEVENT
END:VCALENDAR
