BEGIN:VCALENDAR
VERSION:2.0
PRODID:-//ddaysoftware.com//NONSGML DDay.iCal 1.0//EN
BEGIN:VEVENT
DESCRIPTION:HAWESKO HOLDING SE Veröffentlichung Quartalsmitteilung (Stichta
 g Q1)\n\n (https://www.finanznachrichten.de)
DTEND;VALUE=DATE:20250514
DTSTAMP:20260422T002020Z
DTSTART;VALUE=DATE:20250513
LOCATION:
SEQUENCE:0
SUMMARY:HAWESKO HOLDING SE Veröffentlichung Quartalsmitteilung (Stichtag Q1
 )
UID:2ad9bc8d-5168-43f0-a840-5593906eac09
END:VEVENT
END:VCALENDAR
