BEGIN:VCALENDAR
VERSION:2.0
PRODID:-//ddaysoftware.com//NONSGML DDay.iCal 1.0//EN
BEGIN:VEVENT
DESCRIPTION:CENIT AG Veröffentlichung Jahresfinanzbericht\n\n (https://www.
 finanznachrichten.de)
DTEND;VALUE=DATE:20260410
DTSTAMP:20260425T171058Z
DTSTART;VALUE=DATE:20260409
LOCATION:
SEQUENCE:0
SUMMARY:CENIT AG Veröffentlichung Jahresfinanzbericht
UID:4f92821a-c34c-4c52-9451-c3f357399a21
END:VEVENT
END:VCALENDAR
