BEGIN:VCALENDAR
VERSION:2.0
PRODID:-//ddaysoftware.com//NONSGML DDay.iCal 1.0//EN
BEGIN:VEVENT
DESCRIPTION:BECHTLE AG Hauptversammlung\n\n (https://www.finanznachrichten.
 de)
DTEND;VALUE=DATE:20250528
DTSTAMP:20260421T113315Z
DTSTART;VALUE=DATE:20250527
LOCATION:
SEQUENCE:0
SUMMARY:BECHTLE AG Hauptversammlung
UID:1004f5b3-0012-4391-a47e-95396b7d3a1a
END:VEVENT
END:VCALENDAR
