BEGIN:VCALENDAR
VERSION:2.0
PRODID:-//ddaysoftware.com//NONSGML DDay.iCal 1.0//EN
BEGIN:VEVENT
DESCRIPTION:KION GROUP AG Analystenveranstaltung\n\n (https://www.finanznac
 hrichten.de)
DTEND;VALUE=DATE:20250228
DTSTAMP:20260420T181421Z
DTSTART;VALUE=DATE:20250227
LOCATION:
SEQUENCE:0
SUMMARY:KION GROUP AG Analystenveranstaltung
UID:7e52d892-35a3-48cc-828b-ae4bcbe0f0d3
END:VEVENT
END:VCALENDAR
