BEGIN:VCALENDAR
VERSION:2.0
PRODID:-//ddaysoftware.com//NONSGML DDay.iCal 1.0//EN
BEGIN:VEVENT
DESCRIPTION:KRONES AG Conference Call zu dem Q3-Zahlen 2025\n\n (https://ww
 w.finanznachrichten.de)
DTEND;VALUE=DATE:20251108
DTSTAMP:20260426T004024Z
DTSTART;VALUE=DATE:20251107
LOCATION:
SEQUENCE:0
SUMMARY:KRONES AG Conference Call zu dem Q3-Zahlen 2025
UID:76ee410d-1396-43c1-9695-d2907a56dc39
END:VEVENT
END:VCALENDAR
