BEGIN:VCALENDAR
VERSION:2.0
PRODID:-//ddaysoftware.com//NONSGML DDay.iCal 1.0//EN
BEGIN:VEVENT
DESCRIPTION:FLATEXDEGIRO SE https://flatexdegiro.com/de/investor-relations/
 reports-financial-calendar\n\n (https://www.finanznachrichten.de)
DTEND;VALUE=DATE:20250815
DTSTAMP:20260420T084233Z
DTSTART;VALUE=DATE:20250814
LOCATION:
SEQUENCE:0
SUMMARY:FLATEXDEGIRO SE https://flatexdegiro.com/de/investor-relations/repo
 rts-financial-calendar
UID:0cf3f319-9367-4e82-a734-7f0c30b905e0
END:VEVENT
END:VCALENDAR
