BEGIN:VCALENDAR
VERSION:2.0
PRODID:-//ddaysoftware.com//NONSGML DDay.iCal 1.0//EN
BEGIN:VEVENT
DESCRIPTION:YOUR FAMILY ENTERTAINMENT AG Hauptversammlung\n\n (https://www.
 finanznachrichten.de)
DTEND;VALUE=DATE:20200630
DTSTAMP:20260424T175813Z
DTSTART;VALUE=DATE:20200629
LOCATION:
SEQUENCE:0
SUMMARY:YOUR FAMILY ENTERTAINMENT AG Hauptversammlung
UID:c5abcac7-91e2-4643-a9c1-5d9b91d86f46
END:VEVENT
END:VCALENDAR
