BEGIN:VCALENDAR
VERSION:2.0
PRODID:-//ddaysoftware.com//NONSGML DDay.iCal 1.0//EN
BEGIN:VEVENT
DESCRIPTION:HANNOVER RUECK SE Veröffentlichung Quartalsmitteilung (Stichtag
  Q3)\n\n (https://www.finanznachrichten.de)
DTEND;VALUE=DATE:20251111
DTSTAMP:20260423T234704Z
DTSTART;VALUE=DATE:20251110
LOCATION:
SEQUENCE:0
SUMMARY:HANNOVER RUECK SE Veröffentlichung Quartalsmitteilung (Stichtag Q3)
UID:780ddd48-3faa-4332-9b51-6484b6fa6538
END:VEVENT
END:VCALENDAR
