BEGIN:VCALENDAR
VERSION:2.0
PRODID:-//ddaysoftware.com//NONSGML DDay.iCal 1.0//EN
BEGIN:VEVENT
DESCRIPTION:DEUTSCHE TELEKOM AG Hauptversammlung\n\n (https://www.finanznac
 hrichten.de)
DTEND;VALUE=DATE:20260402
DTSTAMP:20260419T125701Z
DTSTART;VALUE=DATE:20260401
LOCATION:
SEQUENCE:0
SUMMARY:DEUTSCHE TELEKOM AG Hauptversammlung
UID:3f23814e-ef2e-4667-8371-41b3c82affe7
END:VEVENT
END:VCALENDAR
