BEGIN:VCALENDAR
VERSION:2.0
PRODID:-//ddaysoftware.com//NONSGML DDay.iCal 1.0//EN
BEGIN:VEVENT
DESCRIPTION:SYMRISE AG Hauptversammlung 2025\, Holzminden\n\n (https://www.
 finanznachrichten.de)
DTEND;VALUE=DATE:20250521
DTSTAMP:20260423T010157Z
DTSTART;VALUE=DATE:20250520
LOCATION:
SEQUENCE:0
SUMMARY:SYMRISE AG Hauptversammlung 2025\, Holzminden
UID:dcbef38d-a9fd-4fbf-8714-58685706549b
END:VEVENT
END:VCALENDAR
