BEGIN:VCALENDAR
VERSION:2.0
PRODID:-//ddaysoftware.com//NONSGML DDay.iCal 1.0//EN
BEGIN:VEVENT
DESCRIPTION:MWB FAIRTRADE WERTPAPIERHANDELSBANK AG Veröffentlichung des Hal
 bjahresergebnisses 2024\n\n (https://www.finanznachrichten.de)
DTEND:20240716T235900
DTSTAMP:20260419T125702Z
DTSTART;VALUE=DATE:20240716
LOCATION:
SEQUENCE:0
SUMMARY:MWB FAIRTRADE WERTPAPIERHANDELSBANK AG Veröffentlichung des Halbjah
 resergebnisses 2024
UID:6b4c41c5-5e4d-4b14-8bdc-ec7f910fd72c
END:VEVENT
END:VCALENDAR
