BEGIN:VCALENDAR
VERSION:2.0
PRODID:-//ddaysoftware.com//NONSGML DDay.iCal 1.0//EN
BEGIN:VEVENT
DESCRIPTION:YOUR FAMILY ENTERTAINMENT AG Veröffentlichung Jahresfinanzberic
 ht 2022\n\n (https://www.finanznachrichten.de)
DTEND:20230427T235900
DTSTAMP:20260424T175813Z
DTSTART;VALUE=DATE:20230427
LOCATION:
SEQUENCE:0
SUMMARY:YOUR FAMILY ENTERTAINMENT AG Veröffentlichung Jahresfinanzbericht 2
 022
UID:58313f75-f204-4103-a242-162757354575
END:VEVENT
END:VCALENDAR
