BEGIN:VCALENDAR
VERSION:2.0
PRODID:-//ddaysoftware.com//NONSGML DDay.iCal 1.0//EN
BEGIN:VEVENT
DESCRIPTION:SARTORIUS AG VZ Hauptversammlung\n\n (https://www.finanznachric
 hten.de)
DTEND;VALUE=DATE:20260327
DTSTAMP:20260422T220733Z
DTSTART;VALUE=DATE:20260326
LOCATION:
SEQUENCE:0
SUMMARY:SARTORIUS AG VZ Hauptversammlung
UID:757136a0-57fc-4c3b-9160-14faec2229f3
END:VEVENT
END:VCALENDAR
