BEGIN:VCALENDAR
VERSION:2.0
PRODID:-//ddaysoftware.com//NONSGML DDay.iCal 1.0//EN
BEGIN:VEVENT
DESCRIPTION:BECHTLE AG Veröffentlichung Quartalsmitteilung (Stichtag Q3)\n\
 n (https://www.finanznachrichten.de)
DTEND;VALUE=DATE:20251115
DTSTAMP:20260421T113315Z
DTSTART;VALUE=DATE:20251114
LOCATION:
SEQUENCE:0
SUMMARY:BECHTLE AG Veröffentlichung Quartalsmitteilung (Stichtag Q3)
UID:91fa326e-ead0-43a9-b543-e37250acb0da
END:VEVENT
END:VCALENDAR
