BEGIN:VCALENDAR
VERSION:2.0
PRODID:-//ddaysoftware.com//NONSGML DDay.iCal 1.0//EN
BEGIN:VEVENT
DESCRIPTION:GESCO SE Hauptversammlung\n\n (https://www.finanznachrichten.de
 )
DTEND;VALUE=DATE:20250626
DTSTAMP:20260421T012926Z
DTSTART;VALUE=DATE:20250625
LOCATION:
SEQUENCE:0
SUMMARY:GESCO SE Hauptversammlung
UID:beee8b7a-23b1-4788-90ee-7764193a38b1
END:VEVENT
END:VCALENDAR
