BEGIN:VCALENDAR
VERSION:2.0
PRODID:-//ddaysoftware.com//NONSGML DDay.iCal 1.0//EN
BEGIN:VEVENT
DESCRIPTION:EDEL SE & CO KGAA MKK München\n\n (https://www.finanznachrichte
 n.de)
DTEND;VALUE=DATE:20181212
DTSTAMP:20260422T015947Z
DTSTART;VALUE=DATE:20181211
LOCATION:
SEQUENCE:0
SUMMARY:EDEL SE & CO KGAA MKK München
UID:b25e08b4-c32a-45af-b5d6-f552a2f1a26e
END:VEVENT
END:VCALENDAR
