BEGIN:VCALENDAR
VERSION:2.0
PRODID:-//ddaysoftware.com//NONSGML DDay.iCal 1.0//EN
BEGIN:VEVENT
DESCRIPTION:SILTRONIC AG Pressemeldung zur Quartalsmitteilung (Stichtag Q1)
 \n\n (https://www.finanznachrichten.de)
DTEND;VALUE=DATE:20250501
DTSTAMP:20260421T030334Z
DTSTART;VALUE=DATE:20250430
LOCATION:
SEQUENCE:0
SUMMARY:SILTRONIC AG Pressemeldung zur Quartalsmitteilung (Stichtag Q1)
UID:2d9c73c4-2967-406e-b20f-9398c585c5de
END:VEVENT
END:VCALENDAR
