BEGIN:VCALENDAR
VERSION:2.0
PRODID:-//ddaysoftware.com//NONSGML DDay.iCal 1.0//EN
BEGIN:VEVENT
DESCRIPTION:YOUR FAMILY ENTERTAINMENT AG Veröffentlichung Halbjahresfinanzb
 ericht 2021\n\n (https://www.finanznachrichten.de)
DTEND;VALUE=DATE:20211001
DTSTAMP:20260424T175813Z
DTSTART;VALUE=DATE:20210930
LOCATION:
SEQUENCE:0
SUMMARY:YOUR FAMILY ENTERTAINMENT AG Veröffentlichung Halbjahresfinanzberic
 ht 2021
UID:fad80740-23cf-4afd-95ff-490801a1db03
END:VEVENT
END:VCALENDAR
