BEGIN:VCALENDAR
VERSION:2.0
PRODID:-//ddaysoftware.com//NONSGML DDay.iCal 1.0//EN
BEGIN:VEVENT
DESCRIPTION:SYMRISE AG Unternehmens- und Finanzbericht 2024\n\n (https://ww
 w.finanznachrichten.de)
DTEND;VALUE=DATE:20250328
DTSTAMP:20260423T010157Z
DTSTART;VALUE=DATE:20250327
LOCATION:
SEQUENCE:0
SUMMARY:SYMRISE AG Unternehmens- und Finanzbericht 2024
UID:aeb78be3-3f50-4d95-90cb-96b988ec30f7
END:VEVENT
END:VCALENDAR
