BEGIN:VCALENDAR
VERSION:2.0
PRODID:-//ddaysoftware.com//NONSGML DDay.iCal 1.0//EN
BEGIN:VEVENT
DESCRIPTION:MWB FAIRTRADE WERTPAPIERHANDELSBANK AG Corporate News zum endgü
 ltigen Jahresergebnis 2022\n\n (https://www.finanznachrichten.de)
DTEND;VALUE=DATE:20230525
DTSTAMP:20260419T125702Z
DTSTART;VALUE=DATE:20230524
LOCATION:
SEQUENCE:0
SUMMARY:MWB FAIRTRADE WERTPAPIERHANDELSBANK AG Corporate News zum endgültig
 en Jahresergebnis 2022
UID:bbf8a062-2aa1-48a2-a798-f20254ec1473
END:VEVENT
END:VCALENDAR
