BEGIN:VCALENDAR
VERSION:2.0
PRODID:-//ddaysoftware.com//NONSGML DDay.iCal 1.0//EN
BEGIN:VEVENT
DESCRIPTION:MWB FAIRTRADE WERTPAPIERHANDELSBANK AG Corporate News zum Halbj
 ahresergebnis 2023\n\n (https://www.finanznachrichten.de)
DTEND;VALUE=DATE:20230720
DTSTAMP:20260419T125701Z
DTSTART;VALUE=DATE:20230719
LOCATION:
SEQUENCE:0
SUMMARY:MWB FAIRTRADE WERTPAPIERHANDELSBANK AG Corporate News zum Halbjahre
 sergebnis 2023
UID:6d3fedfe-5979-4bcf-b389-64d0369d09ae
END:VEVENT
END:VCALENDAR
